BEGIN:VCALENDAR
VERSION:2.0
PRODID:-//The Art Base - ECPv6.15.20//NONSGML v1.0//EN
CALSCALE:GREGORIAN
METHOD:PUBLISH
X-WR-CALNAME:The Art Base
X-ORIGINAL-URL:https://www.theartbase.org
X-WR-CALDESC:Events for The Art Base
REFRESH-INTERVAL;VALUE=DURATION:PT1H
X-Robots-Tag:noindex
X-PUBLISHED-TTL:PT1H
BEGIN:VTIMEZONE
TZID:America/Denver
BEGIN:DAYLIGHT
TZOFFSETFROM:-0700
TZOFFSETTO:-0600
TZNAME:MDT
DTSTART:20250309T090000
END:DAYLIGHT
BEGIN:STANDARD
TZOFFSETFROM:-0600
TZOFFSETTO:-0700
TZNAME:MST
DTSTART:20251102T080000
END:STANDARD
BEGIN:DAYLIGHT
TZOFFSETFROM:-0700
TZOFFSETTO:-0600
TZNAME:MDT
DTSTART:20260308T090000
END:DAYLIGHT
BEGIN:STANDARD
TZOFFSETFROM:-0600
TZOFFSETTO:-0700
TZNAME:MST
DTSTART:20261101T080000
END:STANDARD
BEGIN:DAYLIGHT
TZOFFSETFROM:-0700
TZOFFSETTO:-0600
TZNAME:MDT
DTSTART:20270314T090000
END:DAYLIGHT
BEGIN:STANDARD
TZOFFSETFROM:-0600
TZOFFSETTO:-0700
TZNAME:MST
DTSTART:20271107T080000
END:STANDARD
BEGIN:DAYLIGHT
TZOFFSETFROM:-0700
TZOFFSETTO:-0600
TZNAME:MDT
DTSTART:20280312T090000
END:DAYLIGHT
BEGIN:STANDARD
TZOFFSETFROM:-0600
TZOFFSETTO:-0700
TZNAME:MST
DTSTART:20281105T080000
END:STANDARD
END:VTIMEZONE
BEGIN:VEVENT
DTSTART;TZID=America/Denver:20261211T110000
DTEND;TZID=America/Denver:20270102T170000
DTSTAMP:20260421T100146
CREATED:20251205T030039Z
LAST-MODIFIED:20260213T222122Z
UID:10000974-1796986800-1798909200@www.theartbase.org
SUMMARY:Exhibition: Home / Un Hogar 2026
DESCRIPTION:On view: December 11\, 2026 to January 2\, 2027\nOpening Reception: Friday\, December 11 from 5 PM- 7 PM\nArtist Talk: Friday\, December 11 at 5:30 PM \n  \nHOME / UN HOGAR: Welcomes Basalt High School students celebrating the voices and artistic expressions of these students who have recently arrived in the United States. \nThis community-centered program offers students the opportunity to reflect on the concept of “home”\, both the home they’ve left behind and the new home they are building here in the Roaring Fork Valley. Through bilingual instruction and artistic mentorship from Gabriela Mejia\, students will create individual artworks and written reflections. \n  \nThank you to our generous 2026 Annual Exhibition Sponsor\, Alpine Bank \n \n 
URL:https://www.theartbase.org/event/home-un-hogar/
LOCATION:The Art Base\, 174 Midland Ave.\, Basalt\, CO\, 81621\, United States
CATEGORIES:event,exhibition,teen mentorship
ATTACH;FMTTYPE=image/jpeg:https://www.theartbase.org/wp-content/uploads/2025/12/IMG_2152.jpg
ORGANIZER;CN="The Art Base":MAILTO:info@theartbase.org
END:VEVENT
END:VCALENDAR