BEGIN:VCALENDAR
VERSION:2.0
PRODID:-//The Art Base - ECPv6.15.20//NONSGML v1.0//EN
CALSCALE:GREGORIAN
METHOD:PUBLISH
X-ORIGINAL-URL:https://www.theartbase.org
X-WR-CALDESC:Events for The Art Base
REFRESH-INTERVAL;VALUE=DURATION:PT1H
X-Robots-Tag:noindex
X-PUBLISHED-TTL:PT1H
BEGIN:VTIMEZONE
TZID:America/Denver
BEGIN:DAYLIGHT
TZOFFSETFROM:-0700
TZOFFSETTO:-0600
TZNAME:MDT
DTSTART:20250309T090000
END:DAYLIGHT
BEGIN:STANDARD
TZOFFSETFROM:-0600
TZOFFSETTO:-0700
TZNAME:MST
DTSTART:20251102T080000
END:STANDARD
BEGIN:DAYLIGHT
TZOFFSETFROM:-0700
TZOFFSETTO:-0600
TZNAME:MDT
DTSTART:20260308T090000
END:DAYLIGHT
BEGIN:STANDARD
TZOFFSETFROM:-0600
TZOFFSETTO:-0700
TZNAME:MST
DTSTART:20261101T080000
END:STANDARD
BEGIN:DAYLIGHT
TZOFFSETFROM:-0700
TZOFFSETTO:-0600
TZNAME:MDT
DTSTART:20270314T090000
END:DAYLIGHT
BEGIN:STANDARD
TZOFFSETFROM:-0600
TZOFFSETTO:-0700
TZNAME:MST
DTSTART:20271107T080000
END:STANDARD
END:VTIMEZONE
BEGIN:VEVENT
DTSTART;TZID=America/Denver:20260727T093000
DTEND;TZID=America/Denver:20260731T153000
DTSTAMP:20260420T035420
CREATED:20260115T214048Z
LAST-MODIFIED:20260210T204825Z
UID:10003409-1785144600-1785511800@www.theartbase.org
SUMMARY:Color.Cosmos.Creatures - Art + Science: with Lillian McIntyre and Sophie Catto
DESCRIPTION:July 27 – 31\, 2026\nMonday – Thursday\, 9:30AM – 3:30PM\, Friday\, 9:30AM – 12:00PM\nGrades 2 – 4\nA collaboration with Aspen Science Center – held at the Art Base \nDive into a week of messy experiments and masterpiece-making! You’ll mix art and science as you explore anatomy and biology\, create color-chemistry art (including chromatography)\, engineer creative builds\, and make projects inspired by fossils\, space\, and planets. Get ready to test\, tinker\, splash\, and discover—then head home with a stack of amazing creations. \nRegister
URL:https://www.theartbase.org/event/sac-color-cosmos-creatures-july-27-31/
LOCATION:The Art Base\, 174 Midland Ave.\, Basalt\, CO\, 81621\, United States
CATEGORIES:2026 Summer Art Camps,event,kids workshop
ATTACH;FMTTYPE=image/png:https://www.theartbase.org/wp-content/uploads/2026/01/freepik__candid-i-with-natural-textures-and-highly-realisti__64749-e1768944037542.png
END:VEVENT
BEGIN:VEVENT
DTSTART;TZID=America/Denver:20260728T090000
DTEND;TZID=America/Denver:20260730T120000
DTSTAMP:20260420T035420
CREATED:20260115T214037Z
LAST-MODIFIED:20260210T204728Z
UID:10003407-1785229200-1785412800@www.theartbase.org
SUMMARY:Wildlife Explorers: with Brooke Bartlett
DESCRIPTION:July 28 – 30\, 2026\nTuesday – Thursday\, 9:00AM – 12:00PM\nPreK (ages 4 – 6) \nGrab your explorer hat and head out on an art adventure! You’ll create art inspired by wild animals from forests\, rivers\, mountains\, and meadows—think bears\, foxes\, owls\, deer\, fish\, and more. Paint big animal shapes\, collage furry and feathery textures\, build masks and puppets\, and sculpt tiny creatures with clay. You’ll stamp tracks\, make habitat scenes\, and use bright colors to bring your wildlife discoveries to life. Get ready to make a little mess\, try new materials\, and take home a whole collection of wild masterpieces! \nRegister
URL:https://www.theartbase.org/event/preksac-wildlife-explorers-july-28-30/
LOCATION:The Art Base\, 174 Midland Ave.\, Basalt\, CO\, 81621\, United States
CATEGORIES:2026 Summer Art Camps,event,kids events,kids workshop
ATTACH;FMTTYPE=image/jpeg:https://www.theartbase.org/wp-content/uploads/2026/01/view-sleeping-cat-scaled-e1768587418494.jpg
END:VEVENT
END:VCALENDAR