BEGIN:VCALENDAR
VERSION:2.0
PRODID:-//The Art Base - ECPv6.15.20//NONSGML v1.0//EN
CALSCALE:GREGORIAN
METHOD:PUBLISH
X-ORIGINAL-URL:https://www.theartbase.org
X-WR-CALDESC:Events for The Art Base
REFRESH-INTERVAL;VALUE=DURATION:PT1H
X-Robots-Tag:noindex
X-PUBLISHED-TTL:PT1H
BEGIN:VTIMEZONE
TZID:America/Denver
BEGIN:DAYLIGHT
TZOFFSETFROM:-0700
TZOFFSETTO:-0600
TZNAME:MDT
DTSTART:20240310T090000
END:DAYLIGHT
BEGIN:STANDARD
TZOFFSETFROM:-0600
TZOFFSETTO:-0700
TZNAME:MST
DTSTART:20241103T080000
END:STANDARD
BEGIN:DAYLIGHT
TZOFFSETFROM:-0700
TZOFFSETTO:-0600
TZNAME:MDT
DTSTART:20250309T090000
END:DAYLIGHT
BEGIN:STANDARD
TZOFFSETFROM:-0600
TZOFFSETTO:-0700
TZNAME:MST
DTSTART:20251102T080000
END:STANDARD
BEGIN:DAYLIGHT
TZOFFSETFROM:-0700
TZOFFSETTO:-0600
TZNAME:MDT
DTSTART:20260308T090000
END:DAYLIGHT
BEGIN:STANDARD
TZOFFSETFROM:-0600
TZOFFSETTO:-0700
TZNAME:MST
DTSTART:20261101T080000
END:STANDARD
END:VTIMEZONE
BEGIN:VEVENT
DTSTART;TZID=America/Denver:20251118T153000
DTEND;TZID=America/Denver:20251118T170000
DTSTAMP:20260420T110418
CREATED:20251013T221042Z
LAST-MODIFIED:20251107T200324Z
UID:10000703-1763479800-1763485200@www.theartbase.org
SUMMARY:ART AFTER SCHOOL (November - TUESDAYS)
DESCRIPTION:with Sophie Catto\nNovember 4\, 11\, 18\, 2025\nTuesdays\, 3:30-5:00 PM\n1st – 4th Grade\nFree \n\n\nIn each session\, students will explore a theme through different media—such as collage\, painting\, sculpture\, drawing\, paper crafts\, textiles\, and more! These fun\, hands-on classes encourage students to think creatively and express themselves through art. \nLocation: Students will meet an Art Base staff member at the flagpole outside BES at 3:30 PM and walk to The Art Base. \n\nNew Registration Process: Lottery System\nDue to overwhelming demand for our Free Tuesday Art After School\, we are introducing a lottery system to ensure fair access for all students. \nHow it works: \n\n\nSubmit your child’s information using the form linked below. \n\n\nOn the 15th of each month\, we will randomly draw names for the following month’s classes. \n\n\nFamilies will be notified by email with an enrollment link. Make sure you have our email saved! \n\n\nImportant notes: \n\n\nAfter participating once\, students must wait until the next semester before entering again\, so more children can take part. \n\n\nOnly one submission per child per semester is needed (Oct–Dec and Jan–Apr). \n\n\nTo enter the lottery for fall\, please complete the form by September 12 at 5:00 PM. \n\n\n\nFall 2025 Sessions\n\n\nSession 1: October 7\, 14\, 21\, 28 \n\n\nSession 2: November 4\, 11\, 18 \n\n\nSession 3: December 2\, 9\, 16 \n\n\nWe’re excited to continue offering this free opportunity and appreciate your support as we work to make it accessible to as many families as possible. \n\n\n\n\n\nDebido a una abrumadora demanda por nuestras clases gratuitas de arte los martes después de escuela (3:30-5:00 pm)\, estaremos implementando un sistema de lotería para asegurar un acceso justo a todos los estudiantes. \nAsí es como funcionará: Envía la información de tu hijo(a) llenando la forma que encontrarás en el enlace de abajo. El día 15 de cada mes\, sortearemos nombres aleatoriamente para las clases de los meses siguientes. Las familias serán notificadas por correo electrónico\, el cual incluirá un enlace para el  registro. Después de participar en una ocasión\, los estudiantes deberán esperar hasta el siguiente semestre antes de entrar nuevamente\, de esta forma más niños y niñas tendrán la oportunidad de participar. Para participar en la lotería\, por favor completa la forma antes del 12 de septiembre a las 5:00 pm. (Solo se necesita un registro por niño(a) cada semestre). Estamos emocionados de continuar ofreciendo esta oportunidad gratuita y apreciamos sinceramente tu apoyo mientras trabajamos en hacerlo accesible para tantas familias como sea posible. \n\n\n\n\nPlease email holly@theartbase.org\nwith any questions.\nRegister for Lottery
URL:https://www.theartbase.org/event/art-after-school-october-tuesdays/2025-11-18/
LOCATION:The Art Base\, 174 Midland Ave.\, Basalt\, CO\, 81621\, United States
CATEGORIES:kids workshop
ATTACH;FMTTYPE=image/jpeg:https://www.theartbase.org/wp-content/uploads/2025/09/IMG_1020-1-scaled-e1767116596112.jpeg
ORGANIZER;CN="The Art Base":MAILTO:info@theartbase.org
END:VEVENT
END:VCALENDAR