BEGIN:VCALENDAR
VERSION:2.0
PRODID:-//The Art Base - ECPv6.15.20//NONSGML v1.0//EN
CALSCALE:GREGORIAN
METHOD:PUBLISH
X-ORIGINAL-URL:https://www.theartbase.org
X-WR-CALDESC:Events for The Art Base
REFRESH-INTERVAL;VALUE=DURATION:PT1H
X-Robots-Tag:noindex
X-PUBLISHED-TTL:PT1H
BEGIN:VTIMEZONE
TZID:America/Denver
BEGIN:DAYLIGHT
TZOFFSETFROM:-0700
TZOFFSETTO:-0600
TZNAME:MDT
DTSTART:20240310T090000
END:DAYLIGHT
BEGIN:STANDARD
TZOFFSETFROM:-0600
TZOFFSETTO:-0700
TZNAME:MST
DTSTART:20241103T080000
END:STANDARD
BEGIN:DAYLIGHT
TZOFFSETFROM:-0700
TZOFFSETTO:-0600
TZNAME:MDT
DTSTART:20250309T090000
END:DAYLIGHT
BEGIN:STANDARD
TZOFFSETFROM:-0600
TZOFFSETTO:-0700
TZNAME:MST
DTSTART:20251102T080000
END:STANDARD
BEGIN:DAYLIGHT
TZOFFSETFROM:-0700
TZOFFSETTO:-0600
TZNAME:MDT
DTSTART:20260308T090000
END:DAYLIGHT
BEGIN:STANDARD
TZOFFSETFROM:-0600
TZOFFSETTO:-0700
TZNAME:MST
DTSTART:20261101T080000
END:STANDARD
END:VTIMEZONE
BEGIN:VEVENT
DTSTART;TZID=America/Denver:20251112T153000
DTEND;TZID=America/Denver:20251112T170000
DTSTAMP:20260420T123708
CREATED:20251028T205745Z
LAST-MODIFIED:20251107T205706Z
UID:10000648-1762961400-1762966800@www.theartbase.org
SUMMARY:ART AFTER SCHOOL (November - WEDNESDAYS)
DESCRIPTION:with Nicole Gogolak\nNovember 5\, 12\, 19\, 2025\nWednesdays\, 2:30-4:00 PM\nAges: 1st Grade and up \nExploring the Roaring Fork Valley: Land\, Water\, and Sky \nIn this fun three-part class\, kids will discover the amazing world right outside our doors! We’ll explore the plants\, animals\, rivers\, mountains\, and skies of the Roaring Fork Valley through creative art projects. \nEach session focuses on a different part of our valley’s natural world—painting flowing rivers\, building mountain landscapes\, and imagining the creatures and colors that make this place so special. \nBy the end of the series\, each young artist will have a beautiful final artwork that brings together everything they’ve learned and created! \n\n\n\n\n\nPlease email holly@theartbase.org\nwith any questions.\nRegister for Lottery
URL:https://www.theartbase.org/event/art-after-school-november-wednesdays/2025-11-12/
LOCATION:The Art Base\, 174 Midland Ave.\, Basalt\, CO\, 81621\, United States
CATEGORIES:kids workshop
ATTACH;FMTTYPE=image/jpeg:https://www.theartbase.org/wp-content/uploads/2025/09/IMG_0941-scaled.jpeg
ORGANIZER;CN="The Art Base":MAILTO:info@theartbase.org
END:VEVENT
END:VCALENDAR