BEGIN:VCALENDAR
VERSION:2.0
PRODID:-//The Art Base - ECPv6.15.20//NONSGML v1.0//EN
CALSCALE:GREGORIAN
METHOD:PUBLISH
X-ORIGINAL-URL:https://www.theartbase.org
X-WR-CALDESC:Events for The Art Base
REFRESH-INTERVAL;VALUE=DURATION:PT1H
X-Robots-Tag:noindex
X-PUBLISHED-TTL:PT1H
BEGIN:VTIMEZONE
TZID:America/Denver
BEGIN:DAYLIGHT
TZOFFSETFROM:-0700
TZOFFSETTO:-0600
TZNAME:MDT
DTSTART:20250309T090000
END:DAYLIGHT
BEGIN:STANDARD
TZOFFSETFROM:-0600
TZOFFSETTO:-0700
TZNAME:MST
DTSTART:20251102T080000
END:STANDARD
BEGIN:DAYLIGHT
TZOFFSETFROM:-0700
TZOFFSETTO:-0600
TZNAME:MDT
DTSTART:20260308T090000
END:DAYLIGHT
BEGIN:STANDARD
TZOFFSETFROM:-0600
TZOFFSETTO:-0700
TZNAME:MST
DTSTART:20261101T080000
END:STANDARD
BEGIN:DAYLIGHT
TZOFFSETFROM:-0700
TZOFFSETTO:-0600
TZNAME:MDT
DTSTART:20270314T090000
END:DAYLIGHT
BEGIN:STANDARD
TZOFFSETFROM:-0600
TZOFFSETTO:-0700
TZNAME:MST
DTSTART:20271107T080000
END:STANDARD
END:VTIMEZONE
BEGIN:VEVENT
DTSTART;TZID=America/Denver:20260206T110000
DTEND;TZID=America/Denver:20260306T170000
DTSTAMP:20260420T050223
CREATED:20251205T030014Z
LAST-MODIFIED:20260213T223506Z
UID:10001401-1770375600-1772816400@www.theartbase.org
SUMMARY:Exhibition: Also Known As (Lindsay Jones & Michael Stout) "Creative Destruction"
DESCRIPTION:On view: February 6 to March 6\, 2026\nOpening Reception: Saturday\, February 7\, from 5 PM- 7 PM\nArtist Talk: Saturday\, February 7 at 5:30 PM \n  \nWorking under a shared pseudonym\, Lindsay and Michael create collaborative works rooted in the theme of Creative Destruction\, the generative power that follows upheaval. Blending cut-paper\, digital processes\, and mixed media\, they merge their practices into a unified exploration of nature’s shifting cycles. \n  \nThis exhibition is generously sponsored by Botany Houseplant Shop \n \nThank you to our generous 2026 Annual Exhibition Sponsor\, Alpine Bank
URL:https://www.theartbase.org/event/also-known-as-lindsay-jones-michael-stout-creative-destruction/
LOCATION:The Art Base\, 174 Midland Ave.\, Basalt\, CO\, 81621\, United States
CATEGORIES:event,exhibition
ATTACH;FMTTYPE=image/png:https://www.theartbase.org/wp-content/uploads/2025/12/Screenshot-2025-12-05-at-12.07.53-PM.png
ORGANIZER;CN="The Art Base":MAILTO:info@theartbase.org
END:VEVENT
BEGIN:VEVENT
DTSTART;TZID=America/Denver:20260207T170000
DTEND;TZID=America/Denver:20260207T190000
DTSTAMP:20260420T050223
CREATED:20251205T214957Z
LAST-MODIFIED:20260213T223808Z
UID:10001780-1770483600-1770490800@www.theartbase.org
SUMMARY:Opening Reception: Also Known As (Lindsay Jones and Michael Stout) "Creative Destruction"
DESCRIPTION:Opening Reception: Saturday\, February 7\, from 5 PM- 7 PM\nArtist Talk: Saturday\, February 7 at 5:30 PM\nOn view: February 6 to March 5\, 2026 \nWorking under a shared pseudonym\, Lindsay and Michael create collaborative works rooted in the theme of ‘Creative Destruction\,’ the generative power that follows upheaval. Blending cut-paper\, digital processes\, and mixed media\, they merge their practices into a unified exploration of nature’s shifting cycles. \nThrough mixed media works—including\, but not limited to\, screen printing and collage—Also Known As investigates unpredictable natural phenomena\, destructive forces\, and how these energies manifest through play\, intuition\, and experimentation within their shared artistic practice.  \nThis exhibition is generously sponsored by Botany Houseplant Shop \n  \n \nThank you to our generous 2026 Annual Exhibition Sponsor\, Alpine Bank
URL:https://www.theartbase.org/event/also-known-as-lindsay-jones-and-michael-stout-creative-destruction/
LOCATION:The Art Base\, 174 Midland Ave.\, Basalt\, CO\, 81621\, United States
CATEGORIES:art talks,event,exhibition
ATTACH;FMTTYPE=image/jpeg:https://www.theartbase.org/wp-content/uploads/2025/12/Promo-Image-5x7-JonesStout-copy.jpg
ORGANIZER;CN="The Art Base":MAILTO:info@theartbase.org
END:VEVENT
END:VCALENDAR