BEGIN:VCALENDAR
VERSION:2.0
PRODID:-//The Art Base - ECPv6.15.20//NONSGML v1.0//EN
CALSCALE:GREGORIAN
METHOD:PUBLISH
X-ORIGINAL-URL:https://www.theartbase.org
X-WR-CALDESC:Events for The Art Base
REFRESH-INTERVAL;VALUE=DURATION:PT1H
X-Robots-Tag:noindex
X-PUBLISHED-TTL:PT1H
BEGIN:VTIMEZONE
TZID:America/Denver
BEGIN:DAYLIGHT
TZOFFSETFROM:-0700
TZOFFSETTO:-0600
TZNAME:MDT
DTSTART:20240310T090000
END:DAYLIGHT
BEGIN:STANDARD
TZOFFSETFROM:-0600
TZOFFSETTO:-0700
TZNAME:MST
DTSTART:20241103T080000
END:STANDARD
BEGIN:DAYLIGHT
TZOFFSETFROM:-0700
TZOFFSETTO:-0600
TZNAME:MDT
DTSTART:20250309T090000
END:DAYLIGHT
BEGIN:STANDARD
TZOFFSETFROM:-0600
TZOFFSETTO:-0700
TZNAME:MST
DTSTART:20251102T080000
END:STANDARD
BEGIN:DAYLIGHT
TZOFFSETFROM:-0700
TZOFFSETTO:-0600
TZNAME:MDT
DTSTART:20260308T090000
END:DAYLIGHT
BEGIN:STANDARD
TZOFFSETFROM:-0600
TZOFFSETTO:-0700
TZNAME:MST
DTSTART:20261101T080000
END:STANDARD
BEGIN:DAYLIGHT
TZOFFSETFROM:-0700
TZOFFSETTO:-0600
TZNAME:MDT
DTSTART:20270314T090000
END:DAYLIGHT
BEGIN:STANDARD
TZOFFSETFROM:-0600
TZOFFSETTO:-0700
TZNAME:MST
DTSTART:20271107T080000
END:STANDARD
END:VTIMEZONE
BEGIN:VEVENT
DTSTART;TZID=America/Denver:20251212T080000
DTEND;TZID=America/Denver:20260130T170000
DTSTAMP:20260420T050313
CREATED:20251215T181550Z
LAST-MODIFIED:20260213T222947Z
UID:10001826-1765526400-1769792400@www.theartbase.org
SUMMARY:Exhibition: Inner Workings
DESCRIPTION:On view: December 12\, 2025 to January 30\, 2026\nOpening Reception: Friday\, December 12 from 5 PM- 7 PM \n  \nInner Workings brings together the artists who shape the Art Base on the ground; our staff and instructors from 2025. This lighthearted exhibition offers a look into the creative practices that unfold behind the scenes\, highlighting the ideas\, experiments\, and personal work that run parallel to our community programs. Rather than a “secret life\,” this show reveals the true character of our organization: a network of thoughtful\, committed local artists whose practices embody our mission and values.   \n  \nThank you to our generous 2026 Annual Exhibition Sponsor\, Alpine Bank
URL:https://www.theartbase.org/event/exhibition-inner-workings/
LOCATION:The Art Base\, 174 Midland Ave.\, Basalt\, CO\, 81621\, United States
CATEGORIES:event,exhibition
ATTACH;FMTTYPE=image/jpeg:https://www.theartbase.org/wp-content/uploads/2025/12/1000020168.jpg
ORGANIZER;CN="The Art Base":MAILTO:info@theartbase.org
END:VEVENT
BEGIN:VEVENT
DTSTART;TZID=America/Denver:20260115T180000
DTEND;TZID=America/Denver:20260115T200000
DTSTAMP:20260420T050313
CREATED:20260108T202159Z
LAST-MODIFIED:20260108T202241Z
UID:10002957-1768500000-1768507200@www.theartbase.org
SUMMARY:Community Knit Night
DESCRIPTION:The Town of Basalt is hosting a community knit night in partnership with The Art Base to encourage the community to learn fiber arts and create beautiful creations for the new bollards on Midland Avenue.  Join us for community knit\, crochet\, and sewing night will take place from 6-8 p.m. at The Art Base (upstairs).  All levels of experience are welcome.  Yarn\, wool scraps\, and knitting needles will be provided and artists can bring their own materials as well.
URL:https://www.theartbase.org/event/24846/
LOCATION:The Art Base\, 174 Midland Ave.\, Basalt\, CO\, 81621\, United States
CATEGORIES:adult workshop,event
ATTACH;FMTTYPE=image/jpeg:https://www.theartbase.org/wp-content/uploads/2026/01/Bollards-e1767903673176.jpg
ORGANIZER;CN="The Art Base":MAILTO:info@theartbase.org
END:VEVENT
END:VCALENDAR