BEGIN:VCALENDAR
VERSION:2.0
PRODID:-//The Art Base - ECPv6.15.20//NONSGML v1.0//EN
CALSCALE:GREGORIAN
METHOD:PUBLISH
X-WR-CALNAME:The Art Base
X-ORIGINAL-URL:https://www.theartbase.org
X-WR-CALDESC:Events for The Art Base
REFRESH-INTERVAL;VALUE=DURATION:PT1H
X-Robots-Tag:noindex
X-PUBLISHED-TTL:PT1H
BEGIN:VTIMEZONE
TZID:America/Denver
BEGIN:DAYLIGHT
TZOFFSETFROM:-0700
TZOFFSETTO:-0600
TZNAME:MDT
DTSTART:20250309T090000
END:DAYLIGHT
BEGIN:STANDARD
TZOFFSETFROM:-0600
TZOFFSETTO:-0700
TZNAME:MST
DTSTART:20251102T080000
END:STANDARD
BEGIN:DAYLIGHT
TZOFFSETFROM:-0700
TZOFFSETTO:-0600
TZNAME:MDT
DTSTART:20260308T090000
END:DAYLIGHT
BEGIN:STANDARD
TZOFFSETFROM:-0600
TZOFFSETTO:-0700
TZNAME:MST
DTSTART:20261101T080000
END:STANDARD
BEGIN:DAYLIGHT
TZOFFSETFROM:-0700
TZOFFSETTO:-0600
TZNAME:MDT
DTSTART:20270314T090000
END:DAYLIGHT
BEGIN:STANDARD
TZOFFSETFROM:-0600
TZOFFSETTO:-0700
TZNAME:MST
DTSTART:20271107T080000
END:STANDARD
END:VTIMEZONE
BEGIN:VEVENT
DTSTART;TZID=America/Denver:20260403T100000
DTEND;TZID=America/Denver:20260404T170000
DTSTAMP:20260420T134028
CREATED:20260317T202807Z
LAST-MODIFIED:20260317T202807Z
UID:10003602-1775210400-1775322000@www.theartbase.org
SUMMARY:Exhibition: The Beauty of Water: A Watercolor Exhibition
DESCRIPTION:Exhibition: The Beauty of Water: A Watercolor Exhibition \nLocation: Basalt Regional Library \nDates: Friday\, April 3 – Saturday\, April 4 (during library hours) \nOpening Reception: Friday\, April 3\, 4:00 PM – 6:00 PM – free and open to the public; refreshments will be served. \n  \nThe Beauty of Water: A Watercolor Exhibition will open on Friday\, April 3\, with a public reception from 4:00 PM to 6:00 PM at the Basalt Regional Library. \nThe exhibition features watercolor work by Sarah Peterson and her students from the Art Base. Sarah has taught classes at the Art Base for the past 15 years\, and many of her students have returned to study with her again and again over the years. This exhibition celebrates both her work as an artist and teacher\, along with the creativity of the students she has inspired. \nThe show will be on view Friday\, April 3\, through Saturday\, April 4\, during regular library hours. \nWatercolor’s fluid\, luminous nature is at the heart of The Beauty of Water\, a show that highlights the expressive possibilities of the medium while showcasing the growth and dedication of local artists. The exhibition offers visitors an opportunity to experience a range of styles and subjects united by a shared love of watercolor. \nThe community is warmly invited to attend the opening reception on April 3 from 4:00 PM to 6:00 PM and meet the artists.
URL:https://www.theartbase.org/event/exhibition-the-beauty-of-water-a-watercolor-exhibition/
LOCATION:Basalt Regional Library\, 4 Midland Ave\, Basalt\, CO\, 81621\, United States
CATEGORIES:community events,event
ATTACH;FMTTYPE=image/jpeg:https://www.theartbase.org/wp-content/uploads/2026/03/Large-Poppies-by-Sarah-Peterson.jpeg
ORGANIZER;CN="The Art Base":MAILTO:info@theartbase.org
END:VEVENT
END:VCALENDAR