BEGIN:VCALENDAR
VERSION:2.0
PRODID:-//The Art Base - ECPv6.15.20//NONSGML v1.0//EN
CALSCALE:GREGORIAN
METHOD:PUBLISH
X-WR-CALNAME:The Art Base
X-ORIGINAL-URL:https://www.theartbase.org
X-WR-CALDESC:Events for The Art Base
REFRESH-INTERVAL;VALUE=DURATION:PT1H
X-Robots-Tag:noindex
X-PUBLISHED-TTL:PT1H
BEGIN:VTIMEZONE
TZID:America/Denver
BEGIN:DAYLIGHT
TZOFFSETFROM:-0700
TZOFFSETTO:-0600
TZNAME:MDT
DTSTART:20250309T090000
END:DAYLIGHT
BEGIN:STANDARD
TZOFFSETFROM:-0600
TZOFFSETTO:-0700
TZNAME:MST
DTSTART:20251102T080000
END:STANDARD
BEGIN:DAYLIGHT
TZOFFSETFROM:-0700
TZOFFSETTO:-0600
TZNAME:MDT
DTSTART:20260308T090000
END:DAYLIGHT
BEGIN:STANDARD
TZOFFSETFROM:-0600
TZOFFSETTO:-0700
TZNAME:MST
DTSTART:20261101T080000
END:STANDARD
BEGIN:DAYLIGHT
TZOFFSETFROM:-0700
TZOFFSETTO:-0600
TZNAME:MDT
DTSTART:20270314T090000
END:DAYLIGHT
BEGIN:STANDARD
TZOFFSETFROM:-0600
TZOFFSETTO:-0700
TZNAME:MST
DTSTART:20271107T080000
END:STANDARD
END:VTIMEZONE
BEGIN:VEVENT
DTSTART;TZID=America/Denver:20260622T093000
DTEND;TZID=America/Denver:20260626T153000
DTSTAMP:20260421T060614
CREATED:20260416T194353Z
LAST-MODIFIED:20260416T194353Z
UID:10004374-1782120600-1782487800@www.theartbase.org
SUMMARY:Bees\, Baskets & Bread: Collaboration with ACES at Rock Bottom Ranch - ONE
DESCRIPTION:June 22 – June 26\nMonday through Friday\, 9:30AM – 3:30PM\nGrades 5 – 8\nThis camp will be held at Rock Bottom Ranch \nCome to Rock Bottom Ranch to learn traditional skills such as bread-making\, beekeeping\, and basket-weaving using natural materials gathered right here on our property. This week blends outdoor adventure\, practical skills\, and creative expression\, fostering a meaningful experience rooted in tradition\, teamwork\, and the rhythms of ranch life. \nRegistration will be done through ACES\, and opens February 19. https://aspennature.jumbula.com/summer-camp
URL:https://www.theartbase.org/event/bees-baskets-bread-collaboration-with-aces-at-rock-bottom-ranch-one/
LOCATION:Rock Bottom Ranch\, 2001 Hooks Spur Rd\, Basalt\, 81621\, United States
CATEGORIES:2026 Summer Art Camps,art camps,event,kids workshop
ATTACH;FMTTYPE=image/jpeg:https://www.theartbase.org/wp-content/uploads/2026/01/close-up-bees-honeycomb-scaled-e1768930539618.jpg
END:VEVENT
END:VCALENDAR