BEGIN:VCALENDAR
VERSION:2.0
PRODID:-//The Art Base - ECPv6.15.20//NONSGML v1.0//EN
CALSCALE:GREGORIAN
METHOD:PUBLISH
X-ORIGINAL-URL:https://www.theartbase.org
X-WR-CALDESC:Events for The Art Base
REFRESH-INTERVAL;VALUE=DURATION:PT1H
X-Robots-Tag:noindex
X-PUBLISHED-TTL:PT1H
BEGIN:VTIMEZONE
TZID:America/Denver
BEGIN:DAYLIGHT
TZOFFSETFROM:-0700
TZOFFSETTO:-0600
TZNAME:MDT
DTSTART:20250309T090000
END:DAYLIGHT
BEGIN:STANDARD
TZOFFSETFROM:-0600
TZOFFSETTO:-0700
TZNAME:MST
DTSTART:20251102T080000
END:STANDARD
BEGIN:DAYLIGHT
TZOFFSETFROM:-0700
TZOFFSETTO:-0600
TZNAME:MDT
DTSTART:20260308T090000
END:DAYLIGHT
BEGIN:STANDARD
TZOFFSETFROM:-0600
TZOFFSETTO:-0700
TZNAME:MST
DTSTART:20261101T080000
END:STANDARD
BEGIN:DAYLIGHT
TZOFFSETFROM:-0700
TZOFFSETTO:-0600
TZNAME:MDT
DTSTART:20270314T090000
END:DAYLIGHT
BEGIN:STANDARD
TZOFFSETFROM:-0600
TZOFFSETTO:-0700
TZNAME:MST
DTSTART:20271107T080000
END:STANDARD
END:VTIMEZONE
BEGIN:VEVENT
DTSTART;TZID=America/Denver:20260526T180000
DTEND;TZID=America/Denver:20260526T200000
DTSTAMP:20260421T112221
CREATED:20260414T200054Z
LAST-MODIFIED:20260414T200054Z
UID:10004373-1779818400-1779825600@www.theartbase.org
SUMMARY:Hues + Brews - Create Your Own Blueprint: with Ethan Merritt
DESCRIPTION:Tuesday\, May 26\, 2026\n6:00 PM – 8:00 PM\nAll levels welcome\nSupplies included \nStudy and Sketch like an architect. Learn to draw and render plans and elevations. Perfect for beginners and experienced makers alike. \n4th Tuesday LGBTQIA+ Art & Social Night On the 4th Tuesday of each month\, local LGBTQIA+ community and allies gather to socialize\, make art\, network\, and have fun—optionally with an adult beverage. Enjoy a rotating mix of creative projects in a variety of media; no art experience needed. Come as you are\, meet new friends\, and explore creativity in a welcoming\, low-pressure space. \n\n\nRegister\n\n\nSponsored by ASPEN OUT
URL:https://www.theartbase.org/event/hues-brews-create-your-own-blueprint-with-ethan-merritt/
LOCATION:The Art Base\, 174 Midland Ave.\, Basalt\, CO\, 81621\, United States
CATEGORIES:adult workshop,event
ATTACH;FMTTYPE=image/jpeg:https://www.theartbase.org/wp-content/uploads/2026/04/IMG_3128-scaled.jpg
ORGANIZER;CN="The Art Base":MAILTO:info@theartbase.org
END:VEVENT
END:VCALENDAR