BEGIN:VCALENDAR
VERSION:2.0
PRODID:-//The Art Base - ECPv6.15.20//NONSGML v1.0//EN
CALSCALE:GREGORIAN
METHOD:PUBLISH
X-WR-CALNAME:The Art Base
X-ORIGINAL-URL:https://www.theartbase.org
X-WR-CALDESC:Events for The Art Base
REFRESH-INTERVAL;VALUE=DURATION:PT1H
X-Robots-Tag:noindex
X-PUBLISHED-TTL:PT1H
BEGIN:VTIMEZONE
TZID:America/Denver
BEGIN:DAYLIGHT
TZOFFSETFROM:-0700
TZOFFSETTO:-0600
TZNAME:MDT
DTSTART:20250309T090000
END:DAYLIGHT
BEGIN:STANDARD
TZOFFSETFROM:-0600
TZOFFSETTO:-0700
TZNAME:MST
DTSTART:20251102T080000
END:STANDARD
BEGIN:DAYLIGHT
TZOFFSETFROM:-0700
TZOFFSETTO:-0600
TZNAME:MDT
DTSTART:20260308T090000
END:DAYLIGHT
BEGIN:STANDARD
TZOFFSETFROM:-0600
TZOFFSETTO:-0700
TZNAME:MST
DTSTART:20261101T080000
END:STANDARD
BEGIN:DAYLIGHT
TZOFFSETFROM:-0700
TZOFFSETTO:-0600
TZNAME:MDT
DTSTART:20270314T090000
END:DAYLIGHT
BEGIN:STANDARD
TZOFFSETFROM:-0600
TZOFFSETTO:-0700
TZNAME:MST
DTSTART:20271107T080000
END:STANDARD
END:VTIMEZONE
BEGIN:VEVENT
DTSTART;TZID=America/Denver:20260417T110000
DTEND;TZID=America/Denver:20260502T170000
DTSTAMP:20260421T011805
CREATED:20251205T030017Z
LAST-MODIFIED:20260417T231545Z
UID:10000965-1776423600-1777741200@www.theartbase.org
SUMMARY:Exhibition: Claudette Carter ARTMentors
DESCRIPTION:On view: April 17 to May 2\, 2026\nOpening Reception: Friday\, April 17 from 5 PM- 7 PM\nArtist Talk: Friday\, April 17 at 5:30 PM \n  \nThe Claudette Carter ARTMentorship (CCAM) is a free five-month program that connects aspiring young artists with experienced local mentors to explore the value of the artistic process. The program culminates in a group exhibition at the Art Base. \nCCAM is open to high school sophomores\, juniors\, seniors\, and homeschool students. Each mentor-mentee pair works together to build strong communication skills\, solve creative challenges\, and\, most importantly\, make art! \nWe would like to thank Richard Carter and Laura Donnelley for proudly sponsoring this program. \nThank you to our generous 2026 Annual Exhibition Sponsor\, Alpine Bank
URL:https://www.theartbase.org/event/claudette-carter-artmentors-exhibition/
LOCATION:The Art Base\, 174 Midland Ave.\, Basalt\, CO\, 81621\, United States
CATEGORIES:event,exhibition,teen mentorship
ATTACH;FMTTYPE=image/jpeg:https://www.theartbase.org/wp-content/uploads/2025/12/DSF4001-2-copy-scaled.jpg
ORGANIZER;CN="The Art Base":MAILTO:info@theartbase.org
END:VEVENT
BEGIN:VEVENT
DTSTART;TZID=America/Denver:20260421T093000
DTEND;TZID=America/Denver:20260421T143000
DTSTAMP:20260421T011805
CREATED:20251107T201914Z
LAST-MODIFIED:20260302T181522Z
UID:10000883-1776763800-1776781800@www.theartbase.org
SUMMARY:Gelli Block Prints - Celebrating Earth Day (Level 2): with Pam Porter
DESCRIPTION:April 21\, 2026\nTuesday\, 9:30 AM – 2:30 PM\nOpen to all skill levels\nAll Supplies Provided \nCreate a series of nature-inspired Gelli Block Prints and take your process further. This workshop is designed for students who have taken the beginner class with Pam and are ready to expand their skills. \nBuild on your knowledge of layered printmaking using Gelli plates\, hand-carved linoleum blocks\, and custom rubber stamps. Begin by creating vibrant\, more intentional background prints with acrylic paints\, stencils\, and textured materials. Then\, design and carve nature-based images into linoleum and soft rubber\, exploring more developed imagery. \nLearn how to layer with greater depth\, experiment more confidently with composition and texture\, and create prints that feel cohesive and expressive. Finish the day with a small collection of beautiful\, layered Earth Day–inspired prints \nRegister
URL:https://www.theartbase.org/event/make-your-own-holiday-cards-with-pam-porter/
LOCATION:The Art Base\, 174 Midland Ave.\, Basalt\, CO\, 81621\, United States
CATEGORIES:adult workshop
ATTACH;FMTTYPE=image/jpeg:https://www.theartbase.org/wp-content/uploads/2025/11/IMG_7049.jpeg
ORGANIZER;CN="The Art Base":MAILTO:info@theartbase.org
END:VEVENT
BEGIN:VEVENT
DTSTART;TZID=America/Denver:20260421T153000
DTEND;TZID=America/Denver:20260421T170000
DTSTAMP:20260421T011805
CREATED:20251223T170545Z
LAST-MODIFIED:20260115T223249Z
UID:10002120-1776785400-1776790800@www.theartbase.org
SUMMARY:Art After School (Tuesdays - April)
DESCRIPTION:
URL:https://www.theartbase.org/event/art-afterschool-tuesdays-april/2026-04-21/
LOCATION:The Art Base\, 174 Midland Ave.\, Basalt\, CO\, 81621\, United States
CATEGORIES:event,kids workshop
ATTACH;FMTTYPE=image/jpeg:https://www.theartbase.org/wp-content/uploads/2025/09/IMG_1020-1-scaled-e1767116596112.jpeg
ORGANIZER;CN="The Art Base":MAILTO:info@theartbase.org
END:VEVENT
END:VCALENDAR